BEGIN:VCALENDAR
VERSION:2.0
PRODID:-//jEvents 2.0 for Joomla//EN
CALSCALE:GREGORIAN
METHOD:PUBLISH
BEGIN:VTIMEZONE
TZID:Europe/Prague
BEGIN:STANDARD
DTSTART:20211031T020000
RDATE:20220327T030000
TZOFFSETFROM:+0200
TZOFFSETTO:+0100
TZNAME:Europe/Prague CET
END:STANDARD
BEGIN:STANDARD
DTSTART:20221030T020000
RDATE:20230326T030000
TZOFFSETFROM:+0200
TZOFFSETTO:+0100
TZNAME:Europe/Prague CET
END:STANDARD
BEGIN:STANDARD
DTSTART:20231029T020000
RDATE:20240331T030000
TZOFFSETFROM:+0200
TZOFFSETTO:+0100
TZNAME:Europe/Prague CET
END:STANDARD
BEGIN:STANDARD
DTSTART:20241027T020000
RDATE:20250330T030000
TZOFFSETFROM:+0200
TZOFFSETTO:+0100
TZNAME:Europe/Prague CET
END:STANDARD
BEGIN:STANDARD
DTSTART:20251026T020000
RDATE:20260329T030000
TZOFFSETFROM:+0200
TZOFFSETTO:+0100
TZNAME:Europe/Prague CET
END:STANDARD
BEGIN:STANDARD
DTSTART:20261025T020000
RDATE:20270328T030000
TZOFFSETFROM:+0200
TZOFFSETTO:+0100
TZNAME:Europe/Prague CET
END:STANDARD
BEGIN:STANDARD
DTSTART:20271031T020000
RDATE:20280326T030000
TZOFFSETFROM:+0200
TZOFFSETTO:+0100
TZNAME:Europe/Prague CET
END:STANDARD
BEGIN:STANDARD
DTSTART:20281029T020000
RDATE:20290325T030000
TZOFFSETFROM:+0200
TZOFFSETTO:+0100
TZNAME:Europe/Prague CET
END:STANDARD
BEGIN:DAYLIGHT
DTSTART:20211011T000000
RDATE:20211031T020000
TZOFFSETFROM:+0100
TZOFFSETTO:+0200
TZNAME:Europe/Prague CEST
END:DAYLIGHT
BEGIN:DAYLIGHT
DTSTART:20220327T030000
RDATE:20221030T020000
TZOFFSETFROM:+0100
TZOFFSETTO:+0200
TZNAME:Europe/Prague CEST
END:DAYLIGHT
BEGIN:DAYLIGHT
DTSTART:20230326T030000
RDATE:20231029T020000
TZOFFSETFROM:+0100
TZOFFSETTO:+0200
TZNAME:Europe/Prague CEST
END:DAYLIGHT
BEGIN:DAYLIGHT
DTSTART:20240331T030000
RDATE:20241027T020000
TZOFFSETFROM:+0100
TZOFFSETTO:+0200
TZNAME:Europe/Prague CEST
END:DAYLIGHT
BEGIN:DAYLIGHT
DTSTART:20250330T030000
RDATE:20251026T020000
TZOFFSETFROM:+0100
TZOFFSETTO:+0200
TZNAME:Europe/Prague CEST
END:DAYLIGHT
BEGIN:DAYLIGHT
DTSTART:20260329T030000
RDATE:20261025T020000
TZOFFSETFROM:+0100
TZOFFSETTO:+0200
TZNAME:Europe/Prague CEST
END:DAYLIGHT
BEGIN:DAYLIGHT
DTSTART:20270328T030000
RDATE:20271031T020000
TZOFFSETFROM:+0100
TZOFFSETTO:+0200
TZNAME:Europe/Prague CEST
END:DAYLIGHT
BEGIN:DAYLIGHT
DTSTART:20280326T030000
RDATE:20281029T020000
TZOFFSETFROM:+0100
TZOFFSETTO:+0200
TZNAME:Europe/Prague CEST
END:DAYLIGHT
END:VTIMEZONE
BEGIN:VEVENT
UID:3d657986a86376de2e3dd06eb1bea626
CATEGORIES:Konference, symposia atd.
CREATED:20220310T232818
SUMMARY:Konference MCMI 2022: Dokumentace, konzervace a restaurování hudebních nástrojů
LOCATION:Praha\, Národní muzeum - České muzeum hudby
DESCRIPTION:<p>Ve dnech 12. a 13. října 2022 se uskuteční v budově Českého muzea hudby 
 v Praze konference Metodického centra dokumentace, konzervace a restaurován
 í hudebních nástrojů. Vítány jsou příspěvky přímo se týkající tématu konfer
 ence (dokumentace / preventivní konzervace / konzervace / restaurování hude
 bních nástrojů), ale rovněž příspěvky z širších tematicky příbuzných oborů.
  Součástí konference je exkurze do restaurátorských dílen a komentovaná pro
 hlídka expozice Českého muzea hudby.</p><p>Délka jednotlivých příspěvků je 
 20 minut (+ 10 minut diskuze). V případě zájmu autora je možné příspěvek pu
 blikovat v elektronickém sborníku z konference, který bude veřejně přístupn
 ý na webu Metodického centra. Více informací na <a href="https://www.mcmi.c
 z/konference-mcmi" target="_blank" rel="noopener noreferrer">www.mcmi.cz/ko
 nferenceMCMI</a>.</p><p>V případě zájmu o aktivní účast, prosím, zašlete ná
 zev příspěvku, stručný abstrakt a krátké info o autorovi. Přihlášky, prosím
 , zasílejte nejpozději do 30. 4. 2022 na adresu: <span id="cloak3ad0477921e
 2b1d08c040f4b6bced306">Tato e-mailová adresa je chráněna před spamboty. Pro
  její zobrazení musíte mít povolen Javascript.</span><script type='text/jav
 ascript'>
				document.getElementById('cloak3ad0477921e2b1d08c040f4b6bced30
 6').innerHTML = '';
				var prefix = '&#109;a' + 'i&#108;' + '&#116;o';
			
 	var path = 'hr' + 'ef' + '=';
				var addy3ad0477921e2b1d08c040f4b6bced306
  = 't&#101;r&#101;z&#97;.z&#117;rk&#111;v&#97;' + '&#64;';
				addy3ad04779
 21e2b1d08c040f4b6bced306 = addy3ad0477921e2b1d08c040f4b6bced306 + 'nm' + '&
 #46;' + 'cz';
				var addy_text3ad0477921e2b1d08c040f4b6bced306 = 't&#101;r
 &#101;z&#97;.z&#117;rk&#111;v&#97;' + '&#64;' + 'nm' + '&#46;' + 'cz';docum
 ent.getElementById('cloak3ad0477921e2b1d08c040f4b6bced306').innerHTML += '<
 a ' + path + '\'' + prefix + ':' + addy3ad0477921e2b1d08c040f4b6bced306 + '
 \'>'+addy_text3ad0477921e2b1d08c040f4b6bced306+'<\/a>';
		</script>. Předpo
 kládáme, že pasivní účast nebude v letošním roce omezená z důvodu protipand
 emických opatření, přesto je však možné se i na pasivní účast registrovat n
 a výše uvedené adrese. V případě protipandemických omezení budou registrova
 ní účastníci konference upřednostněni. (12. a 13. 10. 2022).</p><hr /><p> <
 /p>
CONTACT:Tato e-mailová adresa je chráněna před spamboty. Pro její zobrazení musíte mít povolen Javascript.
				document.getElementById('cloake5cfae3a68c88361a1e62370e28627dc').innerHTML = '';
				var prefix = '&#109;a' + 'i&#108;' + '&#116;o';
				var path = 'hr' + 'ef' + '=';
				var addye5cfae3a68c88361a1e62370e28627dc = 't&#101;r&#101;z&#97;.z&#117;rk&#111;v&#97;' + '&#64;';
				addye5cfae3a68c88361a1e62370e28627dc = addye5cfae3a68c88361a1e62370e28627dc + 'nm' + '&#46;' + 'cz';
				var addy_texte5cfae3a68c88361a1e62370e28627dc = 't&#101;r&#101;z&#97;.z&#117;rk&#111;v&#97;' + '&#64;' + 'nm' + '&#46;' + 'cz';document.getElementById('cloake5cfae3a68c88361a1e62370e28627dc').innerHTML += '<a ' + path + '\'' + prefix + ':' + addye5cfae3a68c88361a1e62370e28627dc + '\'>'+addy_texte5cfae3a68c88361a1e62370e28627dc+'';
		
DTSTAMP:20260420T012528
DTSTART;TZID=Europe/Prague;VALUE=DATE:20221012
DTEND;TZID=Europe/Prague;VALUE=DATE:20221014
SEQUENCE:0
TRANSP:OPAQUE
END:VEVENT
END:VCALENDAR