BEGIN:VCALENDAR
VERSION:2.0
PRODID:-//jEvents 2.0 for Joomla//EN
CALSCALE:GREGORIAN
METHOD:PUBLISH
BEGIN:VTIMEZONE
TZID:Europe/Prague
BEGIN:STANDARD
DTSTART:20201025T020000
RDATE:20210328T030000
TZOFFSETFROM:+0200
TZOFFSETTO:+0100
TZNAME:Europe/Prague CET
END:STANDARD
BEGIN:STANDARD
DTSTART:20211031T020000
RDATE:20220327T030000
TZOFFSETFROM:+0200
TZOFFSETTO:+0100
TZNAME:Europe/Prague CET
END:STANDARD
BEGIN:STANDARD
DTSTART:20221030T020000
RDATE:20230326T030000
TZOFFSETFROM:+0200
TZOFFSETTO:+0100
TZNAME:Europe/Prague CET
END:STANDARD
BEGIN:STANDARD
DTSTART:20231029T020000
RDATE:20240331T030000
TZOFFSETFROM:+0200
TZOFFSETTO:+0100
TZNAME:Europe/Prague CET
END:STANDARD
BEGIN:STANDARD
DTSTART:20241027T020000
RDATE:20250330T030000
TZOFFSETFROM:+0200
TZOFFSETTO:+0100
TZNAME:Europe/Prague CET
END:STANDARD
BEGIN:STANDARD
DTSTART:20251026T020000
RDATE:20260329T030000
TZOFFSETFROM:+0200
TZOFFSETTO:+0100
TZNAME:Europe/Prague CET
END:STANDARD
BEGIN:STANDARD
DTSTART:20261025T020000
RDATE:20270328T030000
TZOFFSETFROM:+0200
TZOFFSETTO:+0100
TZNAME:Europe/Prague CET
END:STANDARD
BEGIN:STANDARD
DTSTART:20271031T020000
RDATE:20280326T030000
TZOFFSETFROM:+0200
TZOFFSETTO:+0100
TZNAME:Europe/Prague CET
END:STANDARD
BEGIN:STANDARD
DTSTART:20281029T020000
RDATE:20290325T030000
TZOFFSETFROM:+0200
TZOFFSETTO:+0100
TZNAME:Europe/Prague CET
END:STANDARD
BEGIN:DAYLIGHT
DTSTART:20200518T170000
RDATE:20201025T020000
TZOFFSETFROM:+0100
TZOFFSETTO:+0200
TZNAME:Europe/Prague CEST
END:DAYLIGHT
BEGIN:DAYLIGHT
DTSTART:20210328T030000
RDATE:20211031T020000
TZOFFSETFROM:+0100
TZOFFSETTO:+0200
TZNAME:Europe/Prague CEST
END:DAYLIGHT
BEGIN:DAYLIGHT
DTSTART:20220327T030000
RDATE:20221030T020000
TZOFFSETFROM:+0100
TZOFFSETTO:+0200
TZNAME:Europe/Prague CEST
END:DAYLIGHT
BEGIN:DAYLIGHT
DTSTART:20230326T030000
RDATE:20231029T020000
TZOFFSETFROM:+0100
TZOFFSETTO:+0200
TZNAME:Europe/Prague CEST
END:DAYLIGHT
BEGIN:DAYLIGHT
DTSTART:20240331T030000
RDATE:20241027T020000
TZOFFSETFROM:+0100
TZOFFSETTO:+0200
TZNAME:Europe/Prague CEST
END:DAYLIGHT
BEGIN:DAYLIGHT
DTSTART:20250330T030000
RDATE:20251026T020000
TZOFFSETFROM:+0100
TZOFFSETTO:+0200
TZNAME:Europe/Prague CEST
END:DAYLIGHT
BEGIN:DAYLIGHT
DTSTART:20260329T030000
RDATE:20261025T020000
TZOFFSETFROM:+0100
TZOFFSETTO:+0200
TZNAME:Europe/Prague CEST
END:DAYLIGHT
BEGIN:DAYLIGHT
DTSTART:20270328T030000
RDATE:20271031T020000
TZOFFSETFROM:+0100
TZOFFSETTO:+0200
TZNAME:Europe/Prague CEST
END:DAYLIGHT
BEGIN:DAYLIGHT
DTSTART:20280326T030000
RDATE:20281029T020000
TZOFFSETFROM:+0100
TZOFFSETTO:+0200
TZNAME:Europe/Prague CEST
END:DAYLIGHT
END:VTIMEZONE
BEGIN:VEVENT
UID:b96c0ebadcf498a30edb319cdcf40622
CATEGORIES:Přednášky, semináře atp.
CREATED:20210428T025337
SUMMARY:P. Gancarczyk: Petrus Wilhelmi (online)
DESCRIPTION:Pozvánka na přednášku předního znalce polyfonie 15. století ve střední Evro
 pě Pawła Gancarczyka (Varšava)\n"Petrus Wilhelmi: Utraquist Sources and New
  Facts about His Music" \nv rámci přednáškové řady "Early Music in Central 
 Europe", která se uskuteční mj. v souvislosti s připravovaným vydáním monog
 rafie o tomto skladateli v létě toho roku.  \nAnotace přednášky a aktivní l
 ink k registraci se nachází na webových stránkách projektu SMNF ( (http://w
 ww.smnf.cz/cs/)http://www.smnf.cz/cs/ (http://www.smnf.cz/cs/)).\nPřednáška
  se uskuteční 19. 5. 2021 v 17:00 na platformě Zoom.\nKe stažení pozvánka: 
 Invitation_Gancarczyk_2021-05-19.pdf (images/Soubory/Invitation_Gancarczyk_
 2021-05-19.pdf)\n \n
X-ALT-DESC;FMTTYPE=text/html:<p>Pozvánka na přednášku předního znalce polyfonie 15. století ve střední E
 vropě Pawła Gancarczyka (Varšava)</p><p>"<strong>Petrus Wilhelmi: Utraquist
  Sources and New Facts about His Music" </strong></p><p>v rámci přednáškové
  řady "Early Music in Central Europe", která se uskuteční mj. v souvislosti
  s připravovaným vydáním monografie o tomto skladateli v létě toho roku.&nb
 sp;&nbsp;</p><p>Anotace přednášky a aktivní link k registraci se nachází na
  webových stránkách projektu SMNF (<a href="http://www.smnf.cz/cs/"></a><a 
 href="http://www.smnf.cz/cs/" target="_blank" rel="noopener">http://www.smn
 f.cz/cs/</a>).</p><p>Přednáška se uskuteční <strong>19. 5. 2021 v 17:00</st
 rong> na platformě Zoom.</p><p>Ke stažení pozvánka:&nbsp;<a href="https://w
 ww.cshv.cz/images/Soubory/Invitation_Gancarczyk_2021-05-19.pdf" target="_bl
 ank" class="wf_file" title="Invitation: Petrus Wilhelmi: Utraquist Sources 
 and New Facts about His Music (pdf)" download="Invitation_Gancarczyk_2021-0
 5-19.pdf">Invitation_Gancarczyk_2021-05-19.pdf</a></p><hr /><p>&nbsp;</p>
DTSTAMP:20260420T031707
DTSTART;TZID=Europe/Prague:20210519T170000
SEQUENCE:0
TRANSP:OPAQUE
END:VEVENT
END:VCALENDAR