BEGIN:VCALENDAR
VERSION:2.0
PRODID:-//jEvents 2.0 for Joomla//EN
CALSCALE:GREGORIAN
METHOD:PUBLISH
BEGIN:VTIMEZONE
TZID:Europe/Prague
BEGIN:STANDARD
DTSTART:20200201T090000
RDATE:20200329T030000
TZOFFSETFROM:+0200
TZOFFSETTO:+0100
TZNAME:Europe/Prague CET
END:STANDARD
BEGIN:STANDARD
DTSTART:20201025T020000
RDATE:20210328T030000
TZOFFSETFROM:+0200
TZOFFSETTO:+0100
TZNAME:Europe/Prague CET
END:STANDARD
BEGIN:STANDARD
DTSTART:20211031T020000
RDATE:20220327T030000
TZOFFSETFROM:+0200
TZOFFSETTO:+0100
TZNAME:Europe/Prague CET
END:STANDARD
BEGIN:STANDARD
DTSTART:20221030T020000
RDATE:20230326T030000
TZOFFSETFROM:+0200
TZOFFSETTO:+0100
TZNAME:Europe/Prague CET
END:STANDARD
BEGIN:STANDARD
DTSTART:20231029T020000
RDATE:20240331T030000
TZOFFSETFROM:+0200
TZOFFSETTO:+0100
TZNAME:Europe/Prague CET
END:STANDARD
BEGIN:STANDARD
DTSTART:20241027T020000
RDATE:20250330T030000
TZOFFSETFROM:+0200
TZOFFSETTO:+0100
TZNAME:Europe/Prague CET
END:STANDARD
BEGIN:STANDARD
DTSTART:20251026T020000
RDATE:20260329T030000
TZOFFSETFROM:+0200
TZOFFSETTO:+0100
TZNAME:Europe/Prague CET
END:STANDARD
BEGIN:STANDARD
DTSTART:20261025T020000
RDATE:20270328T030000
TZOFFSETFROM:+0200
TZOFFSETTO:+0100
TZNAME:Europe/Prague CET
END:STANDARD
BEGIN:STANDARD
DTSTART:20271031T020000
RDATE:20280326T030000
TZOFFSETFROM:+0200
TZOFFSETTO:+0100
TZNAME:Europe/Prague CET
END:STANDARD
BEGIN:STANDARD
DTSTART:20281029T020000
RDATE:20290325T030000
TZOFFSETFROM:+0200
TZOFFSETTO:+0100
TZNAME:Europe/Prague CET
END:STANDARD
BEGIN:DAYLIGHT
DTSTART:20200329T030000
RDATE:20201025T020000
TZOFFSETFROM:+0100
TZOFFSETTO:+0200
TZNAME:Europe/Prague CEST
END:DAYLIGHT
BEGIN:DAYLIGHT
DTSTART:20210328T030000
RDATE:20211031T020000
TZOFFSETFROM:+0100
TZOFFSETTO:+0200
TZNAME:Europe/Prague CEST
END:DAYLIGHT
BEGIN:DAYLIGHT
DTSTART:20220327T030000
RDATE:20221030T020000
TZOFFSETFROM:+0100
TZOFFSETTO:+0200
TZNAME:Europe/Prague CEST
END:DAYLIGHT
BEGIN:DAYLIGHT
DTSTART:20230326T030000
RDATE:20231029T020000
TZOFFSETFROM:+0100
TZOFFSETTO:+0200
TZNAME:Europe/Prague CEST
END:DAYLIGHT
BEGIN:DAYLIGHT
DTSTART:20240331T030000
RDATE:20241027T020000
TZOFFSETFROM:+0100
TZOFFSETTO:+0200
TZNAME:Europe/Prague CEST
END:DAYLIGHT
BEGIN:DAYLIGHT
DTSTART:20250330T030000
RDATE:20251026T020000
TZOFFSETFROM:+0100
TZOFFSETTO:+0200
TZNAME:Europe/Prague CEST
END:DAYLIGHT
BEGIN:DAYLIGHT
DTSTART:20260329T030000
RDATE:20261025T020000
TZOFFSETFROM:+0100
TZOFFSETTO:+0200
TZNAME:Europe/Prague CEST
END:DAYLIGHT
BEGIN:DAYLIGHT
DTSTART:20270328T030000
RDATE:20271031T020000
TZOFFSETFROM:+0100
TZOFFSETTO:+0200
TZNAME:Europe/Prague CEST
END:DAYLIGHT
BEGIN:DAYLIGHT
DTSTART:20280326T030000
RDATE:20281029T020000
TZOFFSETFROM:+0100
TZOFFSETTO:+0200
TZNAME:Europe/Prague CEST
END:DAYLIGHT
END:VTIMEZONE
BEGIN:VEVENT
UID:18d019dbdb3082cdce3f2d1602b5ff98
CATEGORIES:Přednášky, semináře atp.
CREATED:20210131T130816
SUMMARY:Perspektiva výzkumu františkánské kultury v Čechách (online)
DESCRIPTION:<p><span class="fontstyle0">Masarykův ústav a archiv Akademie věd ČR, v. v.
  i. srdečně zve k účasti na workshopu</span></p><h2><span class="fontstyle2
 ">Perspektiva výzkumu&nbsp;františkánské kultury v Čechách</span></h2><h4><
 span class="fontstyle3">Historie – spiritualita – liturgie – hudba a umění<
 /span></h4><p>&nbsp;</p><p><span class="fontstyle2"><strong>1. února 2021 9
 :00–16:00 hod.</strong><br /></span><span class="fontstyle0"></span></p><p>
 <span class="fontstyle0">CÍLE:<br />• koordinace výzkumu a ustanovení české
  mezioborové výzkumné komunity<br />• perspektivní návaznost na mezinárodní
  výzkum<br />• zapojení do odborných databází (Knihověda apod.)<br />• edic
 e a digitální edice: metodologie a formáty<br />• témata společného publika
 čního výstupu</span></p><p>&nbsp;</p><p><span class="fontstyle0">PROGRAM</s
 pan><span class="fontstyle1">:<br /></span><span class="fontstyle1"><strong
 >Úvod: 9:00–9:30</strong><br /></span><span class="fontstyle0">Historie řád
 u v Čechách<br /></span><span class="fontstyle1">Petr Hlaváček (FLÚ AV ČR) 
 – diskuse<br /></span></p><p><span class="fontstyle1"><strong>Sekce I: 9:45
 –10:45</strong><br /></span><span class="fontstyle0">Sebeprezentace a komun
 ikace řádu&nbsp;ve středověké a novodobé společnosti<br /></span><span clas
 s="fontstyle1">Martin Elbel (UP Olomouc), Kateřina Bobková Valentová&nbsp;(
 HIU AV ČR), Marek Brčák (Archiv UK)<br /></span></p><p><span class="fontsty
 le1"><strong>Sekce II: 11:00–12:30</strong><br /></span><span class="fontst
 yle0">Liturgie, hudba a hudební kultura&nbsp;v klášterech českých františká
 nů a klarisek<br /></span><span class="fontstyle1">Vít Aschenbrenner (ZČU P
 lzeň), Markéta Králová&nbsp;(MÚA AV ČR), Hana Vlhová-Wörner (MÚA)</span></p
 ><p><span class="fontstyle0"><strong>Diskuzní panel: 13:30-15:15</strong><b
 r /></span><span class="fontstyle2"><strong>Historické a hudební prameny:&n
 bsp;stav znalosti a zpracování materiálu</strong><br /></span><span class="
 fontstyle3">historie: </span><span class="fontstyle0">Martin Elbel, Marek B
 rčák,&nbsp;Kateřina Bobková-Valentová, Petr Hlaváček<br /></span><span clas
 s="fontstyle3">hudební věda: </span><span class="fontstyle0">Vít Aschenbren
 ner, Markéta Králová,&nbsp;Hana Vlhová-Wörner<br /></span><span class="font
 style3">projekt Knihověda a františkánské knihovny:&nbsp;</span><span class
 ="fontstyle0">Marta Hradilová (MÚA), Jindřich Marek (FF UK)<br /></span></p
 ><p><strong><span class="fontstyle0">Závěrečná diskuse: 15:30–16:00</span><
 /strong></p><p><span class="fontstyle0">Celý workshop se bude konat výhradn
 ě on-line přes aplikaci ZOOM,<br />Přihlášky zasílejte, prosím, do 15. 1. 2
 021 na adresu <a href="mailto:kralova@mua.cas.cz."><span id="cloak2d578c4ae
 20589f19e95d30439c20628">Tato e-mailová adresa je chráněna před spamboty. P
 ro její zobrazení musíte mít povolen Javascript.</span><script type='text/j
 avascript'>
				document.getElementById('cloak2d578c4ae20589f19e95d30439c20
 628').innerHTML = '';
				var prefix = '&#109;a' + 'i&#108;' + '&#116;o';
	
 			var path = 'hr' + 'ef' + '=';
				var addy2d578c4ae20589f19e95d30439c206
 28 = 'kr&#97;l&#111;v&#97;' + '&#64;';
				addy2d578c4ae20589f19e95d30439c2
 0628 = addy2d578c4ae20589f19e95d30439c20628 + 'm&#117;&#97;' + '&#46;' + 'c
 &#97;s' + '&#46;' + 'cz';
				var addy_text2d578c4ae20589f19e95d30439c20628
  = 'kr&#97;l&#111;v&#97;' + '&#64;' + 'm&#117;&#97;' + '&#46;' + 'c&#97;s' 
 + '&#46;' + 'cz';document.getElementById('cloak2d578c4ae20589f19e95d30439c2
 0628').innerHTML += '<a ' + path + '\'' + prefix + ':' + addy2d578c4ae20589
 f19e95d30439c20628 + '\'>'+addy_text2d578c4ae20589f19e95d30439c20628+'<\/a>
 ';
		</script>.</a></span></p><p><a href="images/Soubory/pozv_frantiskani_2
 021.pdf" class="wf_file" title="Perspektiva výzkumu františkánské kultury v
  Čechách - pozvánka ke stažení (pdf 320KB)">Perspektiva výzkumu františkáns
 ké kultury v Čechách - pozvánka ke stažení (pdf 320KB)</a></p><hr /><p>&nbs
 p;</p>
X-ALT-DESC;FMTTYPE=text/html:<p><span class="fontstyle0">Masarykův ústav a archiv Akademie věd ČR, v. v.
  i. srdečně zve k účasti na workshopu</span></p><h2><span class="fontstyle2
 ">Perspektiva výzkumu&nbsp;františkánské kultury v Čechách</span></h2><h4><
 span class="fontstyle3">Historie – spiritualita – liturgie – hudba a umění<
 /span></h4><p>&nbsp;</p><p><span class="fontstyle2"><strong>1. února 2021 9
 :00–16:00 hod.</strong><br /></span><span class="fontstyle0"></span></p><p>
 <span class="fontstyle0">CÍLE:<br />• koordinace výzkumu a ustanovení české
  mezioborové výzkumné komunity<br />• perspektivní návaznost na mezinárodní
  výzkum<br />• zapojení do odborných databází (Knihověda apod.)<br />• edic
 e a digitální edice: metodologie a formáty<br />• témata společného publika
 čního výstupu</span></p><p>&nbsp;</p><p><span class="fontstyle0">PROGRAM</s
 pan><span class="fontstyle1">:<br /></span><span class="fontstyle1"><strong
 >Úvod: 9:00–9:30</strong><br /></span><span class="fontstyle0">Historie řád
 u v Čechách<br /></span><span class="fontstyle1">Petr Hlaváček (FLÚ AV ČR) 
 – diskuse<br /></span></p><p><span class="fontstyle1"><strong>Sekce I: 9:45
 –10:45</strong><br /></span><span class="fontstyle0">Sebeprezentace a komun
 ikace řádu&nbsp;ve středověké a novodobé společnosti<br /></span><span clas
 s="fontstyle1">Martin Elbel (UP Olomouc), Kateřina Bobková Valentová&nbsp;(
 HIU AV ČR), Marek Brčák (Archiv UK)<br /></span></p><p><span class="fontsty
 le1"><strong>Sekce II: 11:00–12:30</strong><br /></span><span class="fontst
 yle0">Liturgie, hudba a hudební kultura&nbsp;v klášterech českých františká
 nů a klarisek<br /></span><span class="fontstyle1">Vít Aschenbrenner (ZČU P
 lzeň), Markéta Králová&nbsp;(MÚA AV ČR), Hana Vlhová-Wörner (MÚA)</span></p
 ><p><span class="fontstyle0"><strong>Diskuzní panel: 13:30-15:15</strong><b
 r /></span><span class="fontstyle2"><strong>Historické a hudební prameny:&n
 bsp;stav znalosti a zpracování materiálu</strong><br /></span><span class="
 fontstyle3">historie: </span><span class="fontstyle0">Martin Elbel, Marek B
 rčák,&nbsp;Kateřina Bobková-Valentová, Petr Hlaváček<br /></span><span clas
 s="fontstyle3">hudební věda: </span><span class="fontstyle0">Vít Aschenbren
 ner, Markéta Králová,&nbsp;Hana Vlhová-Wörner<br /></span><span class="font
 style3">projekt Knihověda a františkánské knihovny:&nbsp;</span><span class
 ="fontstyle0">Marta Hradilová (MÚA), Jindřich Marek (FF UK)<br /></span></p
 ><p><strong><span class="fontstyle0">Závěrečná diskuse: 15:30–16:00</span><
 /strong></p><p><span class="fontstyle0">Celý workshop se bude konat výhradn
 ě on-line přes aplikaci ZOOM,<br />Přihlášky zasílejte, prosím, do 15. 1. 2
 021 na adresu <a href="mailto:kralova@mua.cas.cz."><span id="cloak2d578c4ae
 20589f19e95d30439c20628">Tato e-mailová adresa je chráněna před spamboty. P
 ro její zobrazení musíte mít povolen Javascript.</span><script type='text/j
 avascript'>
				document.getElementById('cloak2d578c4ae20589f19e95d30439c20
 628').innerHTML = '';
				var prefix = '&#109;a' + 'i&#108;' + '&#116;o';
	
 			var path = 'hr' + 'ef' + '=';
				var addy2d578c4ae20589f19e95d30439c206
 28 = 'kr&#97;l&#111;v&#97;' + '&#64;';
				addy2d578c4ae20589f19e95d30439c2
 0628 = addy2d578c4ae20589f19e95d30439c20628 + 'm&#117;&#97;' + '&#46;' + 'c
 &#97;s' + '&#46;' + 'cz';
				var addy_text2d578c4ae20589f19e95d30439c20628
  = 'kr&#97;l&#111;v&#97;' + '&#64;' + 'm&#117;&#97;' + '&#46;' + 'c&#97;s' 
 + '&#46;' + 'cz';document.getElementById('cloak2d578c4ae20589f19e95d30439c2
 0628').innerHTML += '<a ' + path + '\'' + prefix + ':' + addy2d578c4ae20589
 f19e95d30439c20628 + '\'>'+addy_text2d578c4ae20589f19e95d30439c20628+'<\/a>
 ';
		</script>.</a></span></p><p><a href="https://www.cshv.cz/images/Soubor
 y/pozv_frantiskani_2021.pdf" class="wf_file" title="Perspektiva výzkumu fra
 ntiškánské kultury v Čechách - pozvánka ke stažení (pdf 320KB)">Perspektiva
  výzkumu františkánské kultury v Čechách - pozvánka ke stažení (pdf 320KB)<
 /a></p><hr /><p>&nbsp;</p>
DTSTAMP:20260420T032521
DTSTART;TZID=Europe/Prague:20210201T090000
DTEND;TZID=Europe/Prague:20210201T160000
SEQUENCE:0
TRANSP:OPAQUE
END:VEVENT
END:VCALENDAR